BEGIN:VCALENDAR
VERSION:2.0
PRODID:-//KPV Thuiskonia Wien - ECPv6.15.20//NONSGML v1.0//EN
CALSCALE:GREGORIAN
METHOD:PUBLISH
X-WR-CALNAME:KPV Thuiskonia Wien
X-ORIGINAL-URL:https://thuiskonia.com
X-WR-CALDESC:Veranstaltungen für KPV Thuiskonia Wien
REFRESH-INTERVAL;VALUE=DURATION:PT1H
X-Robots-Tag:noindex
X-PUBLISHED-TTL:PT1H
BEGIN:VTIMEZONE
TZID:Europe/Vienna
BEGIN:DAYLIGHT
TZOFFSETFROM:+0100
TZOFFSETTO:+0200
TZNAME:CEST
DTSTART:20220327T010000
END:DAYLIGHT
BEGIN:STANDARD
TZOFFSETFROM:+0200
TZOFFSETTO:+0100
TZNAME:CET
DTSTART:20221030T010000
END:STANDARD
BEGIN:DAYLIGHT
TZOFFSETFROM:+0100
TZOFFSETTO:+0200
TZNAME:CEST
DTSTART:20230326T010000
END:DAYLIGHT
BEGIN:STANDARD
TZOFFSETFROM:+0200
TZOFFSETTO:+0100
TZNAME:CET
DTSTART:20231029T010000
END:STANDARD
BEGIN:DAYLIGHT
TZOFFSETFROM:+0100
TZOFFSETTO:+0200
TZNAME:CEST
DTSTART:20240331T010000
END:DAYLIGHT
BEGIN:STANDARD
TZOFFSETFROM:+0200
TZOFFSETTO:+0100
TZNAME:CET
DTSTART:20241027T010000
END:STANDARD
END:VTIMEZONE
BEGIN:VEVENT
DTSTART;TZID=Europe/Vienna:20231108T190000
DTEND;TZID=Europe/Vienna:20231108T213000
DTSTAMP:20260419T141202
CREATED:20231107T193620Z
LAST-MODIFIED:20231107T193620Z
UID:986-1699470000-1699479000@thuiskonia.com
SUMMARY:Erinnern versus Vergessen - Ein Abend für Maria Lazar
DESCRIPTION:Am 9. November ist der Gedenktag der Novemberpogrome\, auch bekannt als Reichskristallnacht.\nUrsprünglich war die Familie Maria Lazars jüdisch\, bevor sie 1881 zum Katholizismus konvertiert war. Maria Lazar schrieb in ihren 52 Lebensjahren Romane und Dramen\, später arbeitete sie für Zeitungen und übersetzte Werke ins Deutsche.\nIhr Werk blieb bis vor wenigen Jahren praktisch vergessen\, nun wird dieses aufgearbeitet\, weshalb wir am Tag vor dem Gedenktag eine Lesung Ihrer Werke mit Theresia Haiger und Markus Ch. Oezelt im Rahmen von „Erinnern versus Vergessen“ veranstalten.
URL:https://thuiskonia.com/termin/erinnern-versus-vergessen-ein-abend-fuer-maria-lazar/
LOCATION:Salvatorsaal\, Barnabitengasse 14\, Wien\, 1060\, Österreich
END:VEVENT
END:VCALENDAR